BEGIN:VCALENDAR
VERSION:2.0
PRODID:-//Stadt Dübendorf//Neuzuzügertag//DE
BEGIN:VEVENT
UID:neuzuzuegertag-2025@duebendorf.ch
DTSTAMP:Tue, 17 Jun 2025 15:24:49 -0000
DTSTART:20250830T100000
DTEND:20250830T130000
SUMMARY:Neuzuzügertag Dübendorf
LOCATION:Stadthausplatz, Usterstrasse 2, 8600 Dübendorf
DESCRIPTION:- Treffpunkt im Stadthaus, Usterstrasse 2, Dübendorf\n- Begrüssung durch Stadtpräsident André Ingold\n- Fahrt durch Dübendorf im Bus, Kennenlernen von verschiedenen Orten und Institutionen\n- Abschluss im Kulturzentrum Obere Mühle\n- Sie sind zu einem feinen Essen mit musikalischer Begleitung eingeladen
END:VEVENT
END:VCALENDAR
